Package: ACE Version: 1.10.0 Command: /home/biocbuild/bbs-3.13-bioc/R/bin/R CMD INSTALL ACE StartedAt: 2021-10-14 06:11:43 -0400 (Thu, 14 Oct 2021) EndedAt: 2021-10-14 06:12:00 -0400 (Thu, 14 Oct 2021) EllapsedTime: 16.8 seconds RetCode: 0 Status: OK