Package: ACME Version: 2.48.0 Command: rm -rf ACME.buildbin-libdir && mkdir ACME.buildbin-libdir && C:\Users\biocbuild\bbs-3.13-bioc\R\bin\R.exe CMD INSTALL --merge-multiarch --build --library=ACME.buildbin-libdir ACME_2.48.0.tar.gz StartedAt: 2021-10-15 07:53:51 -0400 (Fri, 15 Oct 2021) EndedAt: 2021-10-15 07:56:28 -0400 (Fri, 15 Oct 2021) EllapsedTime: 156.3 seconds RetCode: 0 Status: OK PackageFile: ACME_2.48.0.zip PackageFileSize: 10.04 MiB