Package: ACME Version: 2.48.0 Command: chmod a+r ACME -R && C:\Users\biocbuild\bbs-3.13-bioc\R\bin\R.exe CMD build --keep-empty-dirs --no-resave-data ACME StartedAt: 2021-10-14 11:32:45 -0400 (Thu, 14 Oct 2021) EndedAt: 2021-10-14 11:33:50 -0400 (Thu, 14 Oct 2021) EllapsedTime: 65.5 seconds RetCode: 0 Status: OK PackageFile: ACME_2.48.0.tar.gz PackageFileSize: 9.814 MiB