git_url: https://git.bioconductor.org/packages/ADImpute git_branch: RELEASE_3_13 git_last_commit: 7c93ba7 git_last_commit_date: 2021-05-19 12:57:20 -0400 (Wed, 19 May 2021) Package: ADImpute Version: 1.2.0 Maintainer: Ana Carolina Leote MaintainerEmail: anacarolinaleote at gmail.com