Package: ADImpute Version: 1.2.0 Command: rm -rf ADImpute.buildbin-libdir && mkdir ADImpute.buildbin-libdir && /Users/biocbuild/BBS/utils/build-universal.sh ADImpute_1.2.0.tar.gz /Library/Frameworks/R.framework/Versions/Current/Resources/bin/R ADImpute.buildbin-libdir StartedAt: 2021-10-15 01:31:10 -0400 (Fri, 15 Oct 2021) EndedAt: 2021-10-15 01:32:19 -0400 (Fri, 15 Oct 2021) EllapsedTime: 69.3 seconds RetCode: 0 Status: OK PackageFile: ADImpute_1.2.0.tgz PackageFileSize: 2.33 MiB