Package: ADImpute Version: 1.2.0 Command: /Library/Frameworks/R.framework/Versions/Current/Resources/bin/R CMD INSTALL ADImpute StartedAt: 2021-10-14 10:20:35 -0400 (Thu, 14 Oct 2021) EndedAt: 2021-10-14 10:21:09 -0400 (Thu, 14 Oct 2021) EllapsedTime: 33.5 seconds RetCode: 0 Status: OK