Package: ADImpute Version: 1.2.0 Command: chmod a+r ADImpute -R && C:\Users\biocbuild\bbs-3.13-bioc\R\bin\R.exe CMD build --keep-empty-dirs --no-resave-data ADImpute StartedAt: 2021-10-14 11:33:32 -0400 (Thu, 14 Oct 2021) EndedAt: 2021-10-14 11:34:30 -0400 (Thu, 14 Oct 2021) EllapsedTime: 58.2 seconds RetCode: 0 Status: OK PackageFile: ADImpute_1.2.0.tar.gz PackageFileSize: 2.117 MiB