Package: ADImpute Version: 1.2.0 Command: C:\Users\biocbuild\bbs-3.13-bioc\R\bin\R.exe CMD check --force-multiarch --install=check:ADImpute.install-out.txt --library=C:\Users\biocbuild\bbs-3.13-bioc\R\library --no-vignettes --timings ADImpute_1.2.0.tar.gz StartedAt: 2021-10-14 19:21:00 -0400 (Thu, 14 Oct 2021) EndedAt: 2021-10-14 19:25:57 -0400 (Thu, 14 Oct 2021) EllapsedTime: 297.2 seconds RetCode: 0 Status: WARNINGS CheckDir: ADImpute.Rcheck Warnings: 1