git_url: https://git.bioconductor.org/packages/ADaCGH2 git_branch: RELEASE_3_13 git_last_commit: 43bdeb8 git_last_commit_date: 2021-05-19 11:46:43 -0400 (Wed, 19 May 2021) Package: ADaCGH2 Version: 2.32.0 Maintainer: Ramon Diaz-Uriarte MaintainerEmail: rdiaz02 at gmail.com