Package: ADaCGH2 Version: 2.32.0 Command: rm -rf ADaCGH2.buildbin-libdir && mkdir ADaCGH2.buildbin-libdir && /Users/biocbuild/BBS/utils/build-universal.sh ADaCGH2_2.32.0.tar.gz /Library/Frameworks/R.framework/Versions/Current/Resources/bin/R ADaCGH2.buildbin-libdir StartedAt: 2021-10-15 01:30:47 -0400 (Fri, 15 Oct 2021) EndedAt: 2021-10-15 01:31:36 -0400 (Fri, 15 Oct 2021) EllapsedTime: 49.0 seconds RetCode: 0 Status: OK PackageFile: ADaCGH2_2.32.0.tgz PackageFileSize: 1.153 MiB