Package: ADaCGH2 Version: 2.32.0 Command: rm -rf ADaCGH2.buildbin-libdir && mkdir ADaCGH2.buildbin-libdir && C:\Users\biocbuild\bbs-3.13-bioc\R\bin\R.exe CMD INSTALL --merge-multiarch --build --library=ADaCGH2.buildbin-libdir ADaCGH2_2.32.0.tar.gz StartedAt: 2021-10-15 07:54:00 -0400 (Fri, 15 Oct 2021) EndedAt: 2021-10-15 07:56:46 -0400 (Fri, 15 Oct 2021) EllapsedTime: 165.6 seconds RetCode: 0 Status: OK PackageFile: ADaCGH2_2.32.0.zip PackageFileSize: 1.185 MiB