Package: ADaCGH2 Version: 2.32.0 Command: chmod a+r ADaCGH2 -R && C:\Users\biocbuild\bbs-3.13-bioc\R\bin\R.exe CMD build --keep-empty-dirs --no-resave-data ADaCGH2 StartedAt: 2021-10-14 11:32:55 -0400 (Thu, 14 Oct 2021) EndedAt: 2021-10-14 11:35:05 -0400 (Thu, 14 Oct 2021) EllapsedTime: 129.9 seconds RetCode: 0 Status: OK PackageFile: ADaCGH2_2.32.0.tar.gz PackageFileSize: 1.012 MiB