Package: ADaCGH2 Version: 2.32.0 Command: C:\cygwin\bin\curl.exe -O http://155.52.207.165/BBS/3.13/bioc/src/contrib/ADaCGH2_2.32.0.tar.gz && rm -rf ADaCGH2.buildbin-libdir && mkdir ADaCGH2.buildbin-libdir && C:\Users\biocbuild\bbs-3.13-bioc\R\bin\R.exe CMD INSTALL --merge-multiarch --build --library=ADaCGH2.buildbin-libdir ADaCGH2_2.32.0.tar.gz && C:\Users\biocbuild\bbs-3.13-bioc\R\bin\R.exe CMD INSTALL ADaCGH2_2.32.0.zip && rm ADaCGH2_2.32.0.tar.gz ADaCGH2_2.32.0.zip StartedAt: 2021-10-14 09:19:18 -0400 (Thu, 14 Oct 2021) EndedAt: 2021-10-14 09:20:08 -0400 (Thu, 14 Oct 2021) EllapsedTime: 50.4 seconds RetCode: 0 Status: OK