Package: AMOUNTAIN Version: 1.18.0 Command: /home/biocbuild/bbs-3.13-bioc/R/bin/R CMD check --install=check:AMOUNTAIN.install-out.txt --library=/home/biocbuild/bbs-3.13-bioc/R/library --no-vignettes --timings AMOUNTAIN_1.18.0.tar.gz StartedAt: 2021-10-14 08:50:51 -0400 (Thu, 14 Oct 2021) EndedAt: 2021-10-14 08:51:06 -0400 (Thu, 14 Oct 2021) EllapsedTime: 15.7 seconds RetCode: 0 Status: OK CheckDir: AMOUNTAIN.Rcheck Warnings: 0