Package: AMOUNTAIN Version: 1.18.0 Command: rm -rf AMOUNTAIN.buildbin-libdir && mkdir AMOUNTAIN.buildbin-libdir && C:\Users\biocbuild\bbs-3.13-bioc\R\bin\R.exe CMD INSTALL --merge-multiarch --build --library=AMOUNTAIN.buildbin-libdir AMOUNTAIN_1.18.0.tar.gz StartedAt: 2021-10-15 07:58:47 -0400 (Fri, 15 Oct 2021) EndedAt: 2021-10-15 08:00:02 -0400 (Fri, 15 Oct 2021) EllapsedTime: 75.3 seconds RetCode: 0 Status: OK PackageFile: AMOUNTAIN_1.18.0.zip PackageFileSize: 1.176 MiB