Package: AMOUNTAIN Version: 1.18.0 Command: chmod a+r AMOUNTAIN -R && C:\Users\biocbuild\bbs-3.13-bioc\R\bin\R.exe CMD build --keep-empty-dirs --no-resave-data AMOUNTAIN StartedAt: 2021-10-14 11:39:18 -0400 (Thu, 14 Oct 2021) EndedAt: 2021-10-14 11:39:46 -0400 (Thu, 14 Oct 2021) EllapsedTime: 27.7 seconds RetCode: 0 Status: OK PackageFile: AMOUNTAIN_1.18.0.tar.gz PackageFileSize: 1.101 MiB