Package: AMOUNTAIN Version: 1.18.0 Command: C:\Users\biocbuild\bbs-3.13-bioc\R\bin\R.exe CMD check --force-multiarch --install=check:AMOUNTAIN.install-out.txt --library=C:\Users\biocbuild\bbs-3.13-bioc\R\library --no-vignettes --timings AMOUNTAIN_1.18.0.tar.gz StartedAt: 2021-10-14 19:28:41 -0400 (Thu, 14 Oct 2021) EndedAt: 2021-10-14 19:29:29 -0400 (Thu, 14 Oct 2021) EllapsedTime: 48.0 seconds RetCode: 0 Status: OK CheckDir: AMOUNTAIN.Rcheck Warnings: 0