Package: AMOUNTAIN Version: 1.18.0 Command: C:\cygwin\bin\curl.exe -O http://155.52.207.165/BBS/3.13/bioc/src/contrib/AMOUNTAIN_1.18.0.tar.gz && rm -rf AMOUNTAIN.buildbin-libdir && mkdir AMOUNTAIN.buildbin-libdir && C:\Users\biocbuild\bbs-3.13-bioc\R\bin\R.exe CMD INSTALL --merge-multiarch --build --library=AMOUNTAIN.buildbin-libdir AMOUNTAIN_1.18.0.tar.gz && C:\Users\biocbuild\bbs-3.13-bioc\R\bin\R.exe CMD INSTALL AMOUNTAIN_1.18.0.zip && rm AMOUNTAIN_1.18.0.tar.gz AMOUNTAIN_1.18.0.zip StartedAt: 2021-10-14 06:57:32 -0400 (Thu, 14 Oct 2021) EndedAt: 2021-10-14 06:58:46 -0400 (Thu, 14 Oct 2021) EllapsedTime: 73.9 seconds RetCode: 0 Status: OK