Package: ANCOMBC Version: 1.2.2 Command: /Library/Frameworks/R.framework/Versions/Current/Resources/bin/R CMD build --keep-empty-dirs --no-resave-data ANCOMBC StartedAt: 2021-10-14 10:34:50 -0400 (Thu, 14 Oct 2021) EndedAt: 2021-10-14 10:35:39 -0400 (Thu, 14 Oct 2021) EllapsedTime: 49.0 seconds RetCode: 0 Status: OK PackageFile: ANCOMBC_1.2.2.tar.gz PackageFileSize: 394.7 KiB