Package: ANCOMBC Version: 1.2.2 Command: /Library/Frameworks/R.framework/Versions/Current/Resources/bin/R CMD INSTALL ANCOMBC StartedAt: 2021-10-14 09:33:52 -0400 (Thu, 14 Oct 2021) EndedAt: 2021-10-14 09:34:46 -0400 (Thu, 14 Oct 2021) EllapsedTime: 53.7 seconds RetCode: 0 Status: OK