Package: ANCOMBC Version: 1.2.2 Command: /home/biocbuild/bbs-3.13-bioc/R/bin/R CMD INSTALL ANCOMBC StartedAt: 2021-10-14 06:17:23 -0400 (Thu, 14 Oct 2021) EndedAt: 2021-10-14 06:17:45 -0400 (Thu, 14 Oct 2021) EllapsedTime: 22.2 seconds RetCode: 0 Status: OK