Package: ANCOMBC Version: 1.2.2 Command: rm -rf ANCOMBC.buildbin-libdir && mkdir ANCOMBC.buildbin-libdir && C:\Users\biocbuild\bbs-3.13-bioc\R\bin\R.exe CMD INSTALL --merge-multiarch --build --library=ANCOMBC.buildbin-libdir ANCOMBC_1.2.2.tar.gz StartedAt: 2021-10-15 07:59:13 -0400 (Fri, 15 Oct 2021) EndedAt: 2021-10-15 08:00:37 -0400 (Fri, 15 Oct 2021) EllapsedTime: 84.1 seconds RetCode: 0 Status: OK PackageFile: ANCOMBC_1.2.2.zip PackageFileSize: 403.3 KiB