git_url: https://git.bioconductor.org/packages/APAlyzer git_branch: RELEASE_3_13 git_last_commit: e2978dc git_last_commit_date: 2021-05-19 12:45:23 -0400 (Wed, 19 May 2021) Package: APAlyzer Version: 1.6.0 Maintainer: Ruijia Wang MaintainerEmail: rjwang.bioinfo at gmail.com