Package: APAlyzer Version: 1.6.0 Command: /Library/Frameworks/R.framework/Versions/Current/Resources/bin/R CMD INSTALL APAlyzer StartedAt: 2021-10-14 10:25:04 -0400 (Thu, 14 Oct 2021) EndedAt: 2021-10-14 10:25:49 -0400 (Thu, 14 Oct 2021) EllapsedTime: 45.0 seconds RetCode: 0 Status: OK