Package: ASAFE Version: 1.18.0 Command: /Library/Frameworks/R.framework/Versions/Current/Resources/bin/R CMD INSTALL ASAFE StartedAt: 2021-10-14 08:06:17 -0400 (Thu, 14 Oct 2021) EndedAt: 2021-10-14 08:07:11 -0400 (Thu, 14 Oct 2021) EllapsedTime: 54.6 seconds RetCode: 0 Status: OK