Package: ASICS Version: 2.8.0 Command: rm -rf ASICS.buildbin-libdir && mkdir ASICS.buildbin-libdir && C:\Users\biocbuild\bbs-3.13-bioc\R\bin\R.exe CMD INSTALL --merge-multiarch --build --library=ASICS.buildbin-libdir ASICS_2.8.0.tar.gz StartedAt: 2021-10-15 08:03:48 -0400 (Fri, 15 Oct 2021) EndedAt: 2021-10-15 08:05:22 -0400 (Fri, 15 Oct 2021) EllapsedTime: 94.3 seconds RetCode: 0 Status: OK PackageFile: ASICS_2.8.0.zip PackageFileSize: 3.907 MiB