Package: ASSIGN Version: 1.28.1 Command: /Library/Frameworks/R.framework/Versions/Current/Resources/bin/R CMD check --install=check:ASSIGN.install-out.txt --library=/Library/Frameworks/R.framework/Versions/Current/Resources/library --no-vignettes --timings ASSIGN_1.28.1.tar.gz StartedAt: 2021-10-14 16:23:40 -0400 (Thu, 14 Oct 2021) EndedAt: 2021-10-14 16:24:34 -0400 (Thu, 14 Oct 2021) EllapsedTime: 53.4 seconds RetCode: 0 Status: OK CheckDir: ASSIGN.Rcheck Warnings: 0