Package: ASSIGN Version: 1.28.1 Command: /home/biocbuild/bbs-3.13-bioc/R/bin/R CMD check --install=check:ASSIGN.install-out.txt --library=/home/biocbuild/bbs-3.13-bioc/R/library --no-vignettes --timings ASSIGN_1.28.1.tar.gz StartedAt: 2021-10-14 08:54:12 -0400 (Thu, 14 Oct 2021) EndedAt: 2021-10-14 08:54:44 -0400 (Thu, 14 Oct 2021) EllapsedTime: 32.1 seconds RetCode: 0 Status: OK CheckDir: ASSIGN.Rcheck Warnings: 0