Package: ASSIGN Version: 1.28.1 Command: C:\Users\biocbuild\bbs-3.13-bioc\R\bin\R.exe CMD check --force-multiarch --install=check:ASSIGN.install-out.txt --library=C:\Users\biocbuild\bbs-3.13-bioc\R\library --no-vignettes --timings ASSIGN_1.28.1.tar.gz StartedAt: 2021-10-14 19:42:20 -0400 (Thu, 14 Oct 2021) EndedAt: 2021-10-14 19:43:28 -0400 (Thu, 14 Oct 2021) EllapsedTime: 68.0 seconds RetCode: 0 Status: OK CheckDir: ASSIGN.Rcheck Warnings: 0