Package: ASpediaFI Version: 1.6.0 Command: /home/biocbuild/bbs-3.13-bioc/R/bin/R CMD build --keep-empty-dirs --no-resave-data ASpediaFI StartedAt: 2021-10-14 06:42:41 -0400 (Thu, 14 Oct 2021) EndedAt: 2021-10-14 06:50:08 -0400 (Thu, 14 Oct 2021) EllapsedTime: 447.0 seconds RetCode: 0 Status: OK PackageFile: ASpediaFI_1.6.0.tar.gz PackageFileSize: 2.678 MiB