Package: ASpediaFI Version: 1.6.0 Command: /home/biocbuild/bbs-3.13-bioc/R/bin/R CMD check --install=check:ASpediaFI.install-out.txt --library=/home/biocbuild/bbs-3.13-bioc/R/library --no-vignettes --timings ASpediaFI_1.6.0.tar.gz StartedAt: 2021-10-14 08:53:57 -0400 (Thu, 14 Oct 2021) EndedAt: 2021-10-14 08:59:38 -0400 (Thu, 14 Oct 2021) EllapsedTime: 341.2 seconds RetCode: 0 Status: OK CheckDir: ASpediaFI.Rcheck Warnings: 0