Package: ASpediaFI Version: 1.6.0 Command: /home/biocbuild/bbs-3.13-bioc/R/bin/R CMD INSTALL ASpediaFI StartedAt: 2021-10-14 06:32:35 -0400 (Thu, 14 Oct 2021) EndedAt: 2021-10-14 06:33:25 -0400 (Thu, 14 Oct 2021) EllapsedTime: 50.6 seconds RetCode: 0 Status: OK