Package: ASpediaFI Version: 1.6.0 Command: chmod a+r ASpediaFI -R && C:\Users\biocbuild\bbs-3.13-bioc\R\bin\R.exe CMD build --keep-empty-dirs --no-resave-data ASpediaFI StartedAt: 2021-10-14 11:48:29 -0400 (Thu, 14 Oct 2021) EndedAt: 2021-10-14 11:57:03 -0400 (Thu, 14 Oct 2021) EllapsedTime: 514.1 seconds RetCode: 0 Status: OK PackageFile: ASpediaFI_1.6.0.tar.gz PackageFileSize: 2.683 MiB