Package: AffyRNADegradation Version: 1.38.0 Command: /Library/Frameworks/R.framework/Versions/Current/Resources/bin/R CMD build --keep-empty-dirs --no-resave-data AffyRNADegradation StartedAt: 2021-10-14 10:32:39 -0400 (Thu, 14 Oct 2021) EndedAt: 2021-10-14 10:34:06 -0400 (Thu, 14 Oct 2021) EllapsedTime: 86.4 seconds RetCode: 0 Status: OK PackageFile: AffyRNADegradation_1.38.0.tar.gz PackageFileSize: 308.6 KiB