Package: AnVIL Version: 1.4.1 Command: rm -rf AnVIL.buildbin-libdir && mkdir AnVIL.buildbin-libdir && /Users/biocbuild/BBS/utils/build-universal.sh AnVIL_1.4.1.tar.gz /Library/Frameworks/R.framework/Versions/Current/Resources/bin/R AnVIL.buildbin-libdir StartedAt: 2021-10-15 01:35:34 -0400 (Fri, 15 Oct 2021) EndedAt: 2021-10-15 01:36:44 -0400 (Fri, 15 Oct 2021) EllapsedTime: 69.6 seconds RetCode: 0 Status: OK PackageFile: AnVIL_1.4.1.tgz PackageFileSize: 780.4 KiB