Package: AnVIL Version: 1.4.1 Command: /Library/Frameworks/R.framework/Versions/Current/Resources/bin/R CMD check --install=check:AnVIL.install-out.txt --library=/Library/Frameworks/R.framework/Versions/Current/Resources/library --no-vignettes --timings AnVIL_1.4.1.tar.gz StartedAt: 2021-10-14 16:17:51 -0400 (Thu, 14 Oct 2021) EndedAt: 2021-10-14 16:18:47 -0400 (Thu, 14 Oct 2021) EllapsedTime: 56.0 seconds RetCode: 0 Status: OK CheckDir: AnVIL.Rcheck Warnings: 0