Package: AnVIL Version: 1.4.1 Command: /home/biocbuild/bbs-3.13-bioc/R/bin/R CMD check --install=check:AnVIL.install-out.txt --library=/home/biocbuild/bbs-3.13-bioc/R/library --no-vignettes --timings AnVIL_1.4.1.tar.gz StartedAt: 2021-10-14 08:52:16 -0400 (Thu, 14 Oct 2021) EndedAt: 2021-10-14 08:52:52 -0400 (Thu, 14 Oct 2021) EllapsedTime: 35.3 seconds RetCode: 0 Status: OK CheckDir: AnVIL.Rcheck Warnings: 0