Package: AnVIL Version: 1.4.1 Command: C:\cygwin\bin\curl.exe -O http://155.52.207.165/BBS/3.13/bioc/src/contrib/AnVIL_1.4.1.tar.gz && rm -rf AnVIL.buildbin-libdir && mkdir AnVIL.buildbin-libdir && C:\Users\biocbuild\bbs-3.13-bioc\R\bin\R.exe CMD INSTALL --merge-multiarch --build --library=AnVIL.buildbin-libdir AnVIL_1.4.1.tar.gz && C:\Users\biocbuild\bbs-3.13-bioc\R\bin\R.exe CMD INSTALL AnVIL_1.4.1.zip && rm AnVIL_1.4.1.tar.gz AnVIL_1.4.1.zip StartedAt: 2021-10-14 09:30:10 -0400 (Thu, 14 Oct 2021) EndedAt: 2021-10-14 09:31:18 -0400 (Thu, 14 Oct 2021) EllapsedTime: 68.3 seconds RetCode: 0 Status: OK