Package: Anaquin Version: 2.16.0 Command: /Library/Frameworks/R.framework/Versions/Current/Resources/bin/R CMD check --install=check:Anaquin.install-out.txt --library=/Library/Frameworks/R.framework/Versions/Current/Resources/library --no-vignettes --timings Anaquin_2.16.0.tar.gz StartedAt: 2021-10-14 16:12:04 -0400 (Thu, 14 Oct 2021) EndedAt: 2021-10-14 16:13:18 -0400 (Thu, 14 Oct 2021) EllapsedTime: 73.5 seconds RetCode: 0 Status: OK CheckDir: Anaquin.Rcheck Warnings: 0