Package: AneuFinder Version: 1.20.0 Command: C:\Users\biocbuild\bbs-3.13-bioc\R\bin\R.exe CMD check --force-multiarch --install=check:AneuFinder.install-out.txt --library=C:\Users\biocbuild\bbs-3.13-bioc\R\library --no-vignettes --timings AneuFinder_1.20.0.tar.gz StartedAt: 2021-10-14 19:29:21 -0400 (Thu, 14 Oct 2021) EndedAt: 2021-10-14 19:51:56 -0400 (Thu, 14 Oct 2021) EllapsedTime: 1355.2 seconds RetCode: 0 Status: OK CheckDir: AneuFinder.Rcheck Warnings: 0