Package: AnnotationForge Version: 1.34.1 Command: rm -rf AnnotationForge.buildbin-libdir && mkdir AnnotationForge.buildbin-libdir && C:\Users\biocbuild\bbs-3.13-bioc\R\bin\R.exe CMD INSTALL --merge-multiarch --build --library=AnnotationForge.buildbin-libdir AnnotationForge_1.34.1.tar.gz StartedAt: 2021-10-15 08:00:20 -0400 (Fri, 15 Oct 2021) EndedAt: 2021-10-15 08:01:43 -0400 (Fri, 15 Oct 2021) EllapsedTime: 83.8 seconds RetCode: 0 Status: OK PackageFile: AnnotationForge_1.34.1.zip PackageFileSize: 4.305 MiB