Package: AnnotationForge Version: 1.34.1 Command: chmod a+r AnnotationForge -R && C:\Users\biocbuild\bbs-3.13-bioc\R\bin\R.exe CMD build --keep-empty-dirs --no-resave-data AnnotationForge StartedAt: 2021-10-14 11:42:28 -0400 (Thu, 14 Oct 2021) EndedAt: 2021-10-14 11:49:07 -0400 (Thu, 14 Oct 2021) EllapsedTime: 398.1 seconds RetCode: 0 Status: OK PackageFile: AnnotationForge_1.34.1.tar.gz PackageFileSize: 3.706 MiB