Package: AnnotationForge Version: 1.34.1 Command: C:\Users\biocbuild\bbs-3.13-bioc\R\bin\R.exe CMD check --force-multiarch --install=check:AnnotationForge.install-out.txt --library=C:\Users\biocbuild\bbs-3.13-bioc\R\library --no-vignettes --timings AnnotationForge_1.34.1.tar.gz StartedAt: 2021-10-14 19:33:17 -0400 (Thu, 14 Oct 2021) EndedAt: 2021-10-14 19:36:27 -0400 (Thu, 14 Oct 2021) EllapsedTime: 189.9 seconds RetCode: 0 Status: OK CheckDir: AnnotationForge.Rcheck Warnings: 0