Package: ArrayExpress Version: 1.52.0 Command: /home/biocbuild/bbs-3.13-bioc/R/bin/R CMD build --keep-empty-dirs --no-resave-data ArrayExpress StartedAt: 2021-10-14 06:42:21 -0400 (Thu, 14 Oct 2021) EndedAt: 2021-10-14 06:44:32 -0400 (Thu, 14 Oct 2021) EllapsedTime: 130.6 seconds RetCode: 0 Status: OK PackageFile: ArrayExpress_1.52.0.tar.gz PackageFileSize: 185.6 KiB