Package: ArrayExpressHTS Version: 1.42.0 Command: /home/biocbuild/bbs-3.13-bioc/R/bin/R CMD build --keep-empty-dirs --no-resave-data ArrayExpressHTS StartedAt: 2021-10-14 06:42:22 -0400 (Thu, 14 Oct 2021) EndedAt: 2021-10-14 06:43:02 -0400 (Thu, 14 Oct 2021) EllapsedTime: 39.4 seconds RetCode: 0 Status: OK PackageFile: ArrayExpressHTS_1.42.0.tar.gz PackageFileSize: 386.3 KiB