Package: ArrayExpressHTS Version: 1.42.0 Command: /home/biocbuild/bbs-3.13-bioc/R/bin/R CMD check --install=check:ArrayExpressHTS.install-out.txt --library=/home/biocbuild/bbs-3.13-bioc/R/library --no-vignettes --timings ArrayExpressHTS_1.42.0.tar.gz StartedAt: 2021-10-14 08:52:55 -0400 (Thu, 14 Oct 2021) EndedAt: 2021-10-14 08:56:32 -0400 (Thu, 14 Oct 2021) EllapsedTime: 216.8 seconds RetCode: 0 Status: WARNINGS CheckDir: ArrayExpressHTS.Rcheck Warnings: 1