Package: Autotuner Version: 1.6.0 Command: rm -rf Autotuner.buildbin-libdir && mkdir Autotuner.buildbin-libdir && /Users/biocbuild/BBS/utils/build-universal.sh Autotuner_1.6.0.tar.gz /Library/Frameworks/R.framework/Versions/Current/Resources/bin/R Autotuner.buildbin-libdir StartedAt: 2021-10-15 01:38:05 -0400 (Fri, 15 Oct 2021) EndedAt: 2021-10-15 01:39:16 -0400 (Fri, 15 Oct 2021) EllapsedTime: 70.8 seconds RetCode: 0 Status: OK PackageFile: Autotuner_1.6.0.tgz PackageFileSize: 2.921 MiB