Package: BASiCS Version: 2.4.0 Command: rm -rf BASiCS.buildbin-libdir && mkdir BASiCS.buildbin-libdir && /Users/biocbuild/BBS/utils/build-universal.sh BASiCS_2.4.0.tar.gz /Library/Frameworks/R.framework/Versions/Current/Resources/bin/R BASiCS.buildbin-libdir StartedAt: 2021-10-15 01:39:42 -0400 (Fri, 15 Oct 2021) EndedAt: 2021-10-15 01:41:58 -0400 (Fri, 15 Oct 2021) EllapsedTime: 136.0 seconds RetCode: 0 Status: OK PackageFile: BASiCS_2.4.0.tgz PackageFileSize: 3.719 MiB