Package: BBCAnalyzer Version: 1.22.0 Command: rm -rf BBCAnalyzer.buildbin-libdir && mkdir BBCAnalyzer.buildbin-libdir && /Users/biocbuild/BBS/utils/build-universal.sh BBCAnalyzer_1.22.0.tar.gz /Library/Frameworks/R.framework/Versions/Current/Resources/bin/R BBCAnalyzer.buildbin-libdir StartedAt: 2021-10-15 01:40:35 -0400 (Fri, 15 Oct 2021) EndedAt: 2021-10-15 01:41:42 -0400 (Fri, 15 Oct 2021) EllapsedTime: 67.3 seconds RetCode: 0 Status: OK PackageFile: BBCAnalyzer_1.22.0.tgz PackageFileSize: 1.973 MiB