Package: BBCAnalyzer Version: 1.22.0 Command: C:\Users\biocbuild\bbs-3.13-bioc\R\bin\R.exe CMD check --force-multiarch --install=check:BBCAnalyzer.install-out.txt --library=C:\Users\biocbuild\bbs-3.13-bioc\R\library --no-vignettes --timings BBCAnalyzer_1.22.0.tar.gz StartedAt: 2021-10-14 19:56:52 -0400 (Thu, 14 Oct 2021) EndedAt: 2021-10-14 20:03:20 -0400 (Thu, 14 Oct 2021) EllapsedTime: 388.2 seconds RetCode: 0 Status: WARNINGS CheckDir: BBCAnalyzer.Rcheck Warnings: 1